BEGIN:VCALENDAR
METHOD:PUBLISH
VERSION:2.0
CALSCALE:GREGORIAN
PRODID:-//NONSGML Sandhills Development\, LLC//NONSGML Sugar Calendar Fe
 eds v3.2.1//EN
X-WR-CALNAME:Exploring In Private with NetworkJedi
X-WR-CALDESC:The Neon Temple
X-WR-TIMEZONE:UTC
BEGIN:VTIMEZONE
TZID:UTC
BEGIN:STANDARD
TZOFFSETFROM:+0000
TZOFFSETTO:+0000
DTSTART:20251009T070000
TZNAME:UTC
END:STANDARD
END:VTIMEZONE
BEGIN:VTIMEZONE
TZID:America/New_York
BEGIN:STANDARD
TZOFFSETFROM:-0400
TZOFFSETTO:-0500
DTSTART:20251102T060000
TZNAME:EST
END:STANDARD
BEGIN:DAYLIGHT
TZOFFSETFROM:-0500
TZOFFSETTO:-0400
DTSTART:20260308T070000
TZNAME:EDT
END:DAYLIGHT
END:VTIMEZONE
BEGIN:VEVENT
SUMMARY:Exploring In Private with NetworkJedi
DESCRIPTION:AegisNav is a fully offline\, open-source Android applicatio
 n designed for personal privacy awareness and secure navigation. It prov
 ides downloadable offline maps\, turn-by-turn routing\, and geocoding fo
 r all 50 US states\, while passively scanning publicly broadcast Bluetoo
 th (BLE) and WiFi signals to alert users to nearby potential surveillanc
 e devices such as known tracker types (e.g.\, AirTag\, Tile)\, certain p
 olice equipment signatures\, and community-reported automated license pl
 ate reader (ALPR) camera locations. All features operate locally with no
  data transmission\, emphasizing user education on privacy risks from wi
 despread surveillance technologies.
URL;VALUE=URI:https://neontemple.net/events/exploring-in-private-with-ne
 tworkjedi/
UID:urn:uuid:8307e40e-f204-42c1-a1db-1124fcff3dfd
STATUS:CONFIRMED
ORGANIZER:
DTSTAMP:20260424T080930Z
DTSTART;TZID=America/New_York:20260409T190000
DTEND;TZID=America/New_York:20260409T210000
END:VEVENT
END:VCALENDAR